BEGIN:VCALENDAR
VERSION:2.0
PRODID:-//Infrastructure Masons - ECPv6.15.20//NONSGML v1.0//EN
CALSCALE:GREGORIAN
METHOD:PUBLISH
X-WR-CALNAME:Infrastructure Masons
X-ORIGINAL-URL:https://imasons.org
X-WR-CALDESC:Events for Infrastructure Masons
REFRESH-INTERVAL;VALUE=DURATION:PT1H
X-Robots-Tag:noindex
X-PUBLISHED-TTL:PT1H
BEGIN:VTIMEZONE
TZID:America/Los_Angeles
BEGIN:DAYLIGHT
TZOFFSETFROM:-0800
TZOFFSETTO:-0700
TZNAME:PDT
DTSTART:20250309T100000
END:DAYLIGHT
BEGIN:STANDARD
TZOFFSETFROM:-0700
TZOFFSETTO:-0800
TZNAME:PST
DTSTART:20251102T090000
END:STANDARD
BEGIN:DAYLIGHT
TZOFFSETFROM:-0800
TZOFFSETTO:-0700
TZNAME:PDT
DTSTART:20260308T100000
END:DAYLIGHT
BEGIN:STANDARD
TZOFFSETFROM:-0700
TZOFFSETTO:-0800
TZNAME:PST
DTSTART:20261101T090000
END:STANDARD
BEGIN:DAYLIGHT
TZOFFSETFROM:-0800
TZOFFSETTO:-0700
TZNAME:PDT
DTSTART:20270314T100000
END:DAYLIGHT
BEGIN:STANDARD
TZOFFSETFROM:-0700
TZOFFSETTO:-0800
TZNAME:PST
DTSTART:20271107T090000
END:STANDARD
END:VTIMEZONE
BEGIN:VEVENT
DTSTART;TZID=America/Los_Angeles:20260423T093000
DTEND;TZID=America/Los_Angeles:20260423T130000
DTSTAMP:20260423T014749
CREATED:20260310T165313Z
LAST-MODIFIED:20260420T154500Z
UID:10000200-1776936600-1776949200@imasons.org
SUMMARY:Data Center World Career Day with Nomad Futurist and iM Armed Forces
DESCRIPTION:Americas				\n					\n								\n				\n						\n				\n				\n				\n					AI INFRA SUMMIT 5				\n				\n				\n				\n							\n							\n											\n													\n										May 1\, 2026\n									\n								\n											\n													\n										9:00 AM - 7:00 PM PDT\n									\n								\n											\n													\n										Sunnyvale\, California\n									\n						\n						\n				\n				\n		\n				\n				\n																														\n				\n				\n					\n				\n		\n					\n		\n				\n				\n									About the Event:Join us for a focused\, high-impact session at AI INFRA SUMMIT 5\, where the conversation moves beyond planning into how AI infrastructure is actually being deployed\, from power and cooling constraints to compute\, supply chain\, and capital coordination. Hear directly from the operators\, builders\, and investors shaping the infrastructure layer as they share how decisions are being made in real time\, what’s working in production\, and where the current bottlenecks are forming. Get a clear view into how the next phase of AI infrastructure is taking shape\, connect with the people driving it forward\, and understand where you fit as this market continues to build under real constraints. 								\n				\n				\n				\n							\n			\n		\n						\n				\n				\n		\n				\n				\n					Registration:				\n				\n				\n				\n					\n	Register Now
URL:https://imasons.org/activity/events-4-2026-armed-forces-amer-washington/
CATEGORIES:Americas,Armed Forces,People
ATTACH;FMTTYPE=image/png:https://imasons.org/wp-content/uploads/2026/03/Data-Center-World-Career-Day_Event-Page_Small.png
END:VEVENT
END:VCALENDAR